BEGIN:VCALENDAR
VERSION:2.0
PRODID:-//Senderismo Parque Alcosa - ECPv6.0.10//NONSGML v1.0//EN
CALSCALE:GREGORIAN
METHOD:PUBLISH
X-ORIGINAL-URL:https://www.eldeportistanovato.com
X-WR-CALDESC:Eventos para Senderismo Parque Alcosa
REFRESH-INTERVAL;VALUE=DURATION:PT1H
X-Robots-Tag:noindex
X-PUBLISHED-TTL:PT1H
BEGIN:VTIMEZONE
TZID:UTC
BEGIN:STANDARD
TZOFFSETFROM:+0000
TZOFFSETTO:+0000
TZNAME:UTC
DTSTART:20220101T000000
END:STANDARD
END:VTIMEZONE
BEGIN:VEVENT
DTSTART;VALUE=DATE:20220925
DTEND;VALUE=DATE:20220926
DTSTAMP:20260417T174655
CREATED:20220517T131352Z
LAST-MODIFIED:20220607T073522Z
UID:110-1664064000-1664150399@www.eldeportistanovato.com
SUMMARY:Subida al Terril
DESCRIPTION:SUBIDA AL TERRIL \n \nFormulario de inscripción
URL:https://www.eldeportistanovato.com/event/subida-al-terril/
LOCATION:Inicio Ruta Pico del Terril\, Pico del Terril\, Pruna\, Sevilla\, 41670\, España
CATEGORIES:Senderismo
ATTACH;FMTTYPE=image/jpeg:https://www.eldeportistanovato.com/wp-content/uploads/2022/05/Captura.jpg
END:VEVENT
BEGIN:VEVENT
DTSTART;VALUE=DATE:20220910
DTEND;VALUE=DATE:20220911
DTSTAMP:20260417T174655
CREATED:20220830T164126Z
LAST-MODIFIED:20220830T164126Z
UID:384-1662768000-1662854399@www.eldeportistanovato.com
SUMMARY:Ruta Majaceite
DESCRIPTION:Ruta del Río Majaceite
URL:https://www.eldeportistanovato.com/event/ruta-majaceite/
END:VEVENT
BEGIN:VEVENT
DTSTART;TZID=UTC:20220625T080000
DTEND;TZID=UTC:20220625T140000
DTSTAMP:20260417T174655
CREATED:20220607T165810Z
LAST-MODIFIED:20220607T170030Z
UID:330-1656144000-1656165600@www.eldeportistanovato.com
SUMMARY:Salida en Bici Alcalá de Guadaira
DESCRIPTION:Vamos a realizar la primera salida en bicicleta del grupo. La salida será hasta el Puente del Dragón\, en Alcalá de Guadaira\, será una ruta sencilla\, a ritmo lento\, perfecta para iniciarse.\n\nLa ruta tiene un tramo por carretera\, que iría desde el cruce de Torreblanca\, hasta enlazar con la rotonda de Decathlon\, donde nos bajaremos y por seguridad cruzaremos a pie. Siendo esta la opción más sencilla para cruzar.\nLa ruta tiene unos 30Km circulares y es bastante sencilla de realizar\, aunque requiere un mínimo de estado de forma. Transcurre por el rio Guadaira\, en su mayor parte\, donde podremos disfrutar de la ruta más concurrida de la zona\, por ciclistas de todos los niveles.\n\nOs dejo un video de la ruta.\n\nhttps://youtu.be/m28ylLm3qBs\n\nDisfrutaremos\, de la llegada al parque de Oromana\, donde buscaremos un bar para desayunar y reponer fuerzas\, para regresar.\n\nEnlace para apuntarnos a la salida.\n\nEspero que os animéis a esta primera ruta en bici.\nEs obligatorio el uso de casco en la salida y la misma se realiza en autosuficiencia\, con lo que tendremos que llevar las herramientas y equipo básico\, en previsión de averías o pinchazos.
URL:https://www.eldeportistanovato.com/event/salida-en-bici-alcala-de-guadaira/
CATEGORIES:Bicicleta
END:VEVENT
BEGIN:VEVENT
DTSTART;TZID=UTC:20220522T100000
DTEND;TZID=UTC:20220522T140000
DTSTAMP:20260417T174655
CREATED:20220517T132005Z
LAST-MODIFIED:20220523T095801Z
UID:115-1653213600-1653228000@www.eldeportistanovato.com
SUMMARY:RUTA POR EL FERROCARRIL DE PEÑA DEL HIERRO-EL CASTILLO DE LAS GUARDAS
DESCRIPTION:Suspendido por baja de afluencia\nFormulario de inscripción \nRUTA POR EL FERROCARRIL DE PEÑA DEL HIERRO-EL CASTILLO DE LAS GUARDAS
URL:https://www.eldeportistanovato.com/event/ruta-por-el-ferrocarril-de-pena-del-hierro-el-castillo-de-las-guardas/
LOCATION:Ruta Via Verde Peña del Hierro\, Aparcamiento Peña de Hierro\, 21670 Nerva\, Huelva\, Nerva\, Huelva\, 21670\, España
CATEGORIES:Bicicleta,Senderismo
END:VEVENT
END:VCALENDAR